BEGIN:VCALENDAR
VERSION:2.0
PRODID:-//Library Market//iCal Export//EN
BEGIN:VEVENT
SUMMARY:Mah Jongg: Supervised Play
UID:11115
DTSTAMP:20260424T055600Z
DTSTART:20260514T163000Z
DTEND:20260514T183000Z
LOCATION:171 Cleveland Drive, Croton-on-Hudson, NY 10520, United States
ROOM: Small Program Room
DESCRIPTION:This session is supervised play with instructor Sara Mills-Coh
 en. No registration required.Registration IS required for the next session
  of lessons, which starts on May 21!This program is co-sponsored by the Vi
 llage of Croton-on-Hudson.
URL:https://www.crotonfreelibrary.org/event/mah-jongg-supervised-play-1111
 5
END:VEVENT
END:VCALENDAR
