BEGIN:VCALENDAR
VERSION:2.0
PRODID:-//Library Market//iCal Export//EN
BEGIN:VEVENT
SUMMARY:Writers Circle
UID:11113
DTSTAMP:20260422T004800Z
DTSTART:20260501T143000Z
DTEND:20260501T160000Z
LOCATION:171 Cleveland Drive, Croton-on-Hudson, NY 10520, United States
ROOM: Creative Space
DESCRIPTION:Looking for a group where you can share and workshop the ficti
 on, personal narratives, or memoir you&#039;ve been writing?Try the Writer
 s Circle, a weekly writing group at the Croton Free Library!Led by local w
 riter and writing instructor Meredith Phillips, this program provides stru
 cture and community around a writing practice, and gives writers a chance 
 to share their work and have it discussed and constructively critiqued.Wri
 ters will submit works before each meeting, according to a schedule create
 d before class begins. All skill levels welcome! This program is intended 
 for adults. Regular attendance is expected to encourage productive partici
 pation. This session meets every Friday through May 1.Registration is requ
 ired, and this program is currently full. Please email gwen@crotonfreelibr
 ary.org to sign up to be notified when we have our next session! 
URL:https://www.crotonfreelibrary.org/event/writers-circle-11113
END:VEVENT
END:VCALENDAR
