BEGIN:VCALENDAR
VERSION:2.0
PRODID:-//Library Market//iCal Export//EN
BEGIN:VEVENT
SUMMARY:Mah Jongg Lessons
UID:11085
DTSTAMP:20260419T231900Z
DTSTART:20260604T163000Z
DTEND:20260604T190000Z
LOCATION:171 Cleveland Drive, Croton-on-Hudson, NY 10520, United States
ROOM: Small Program Room
DESCRIPTION:Learn the fun and mentally stimulating game of mah jongg!Sign 
 up for this four-week lesson series for beginners. This session is May 21,
  May 28, June 4 &amp; June 11. It&#039;s easiest to learn if you can make 
 every session, and stay for supervised practice play afterward until 3pm.O
 n Thursdays, we have: Open play: 10-12Lessons: 12:30-1:45Supervised play 
 for beginners: 1:45-3Registration is required for lessons &amp; space is l
 imited! Please sign up below or call us at 914-271-6612.This program is co
 -sponsored by the Village of Croton-on-Hudson.
URL:https://www.crotonfreelibrary.org/event/mah-jongg-lessons-11085
END:VEVENT
END:VCALENDAR
