BEGIN:VCALENDAR
VERSION:2.0
PRODID:-//Library Market//iCal Export//EN
BEGIN:VEVENT
SUMMARY:Zoom talk: Westchester Dining in Historic Settings
UID:11010
DTSTAMP:20260424T084400Z
DTSTART:20260527T230000Z
DTEND:20260528T000000Z
LOCATION:
DESCRIPTION:Discover the stories behind Westchester’s most iconic dining
  destinations! From 18th-century inns to repurposed Gilded Age mansions, o
 ur local restaurants offer a delicious taste of American history.Join Barb
 ara Davis, Executive Director of the Westchester County Historical Society
 , for a fascinating look at over three dozen establishments, including:Hor
 se and Hound Inn (South Salem)The Fish and the Farmer (Purdys)Jean-Georges
  Inn at Pound Ridge... and many more!Free and open to all, but registratio
 n is required! Sign up now at bit.ly/westchesterhistoricdining or call 914
 -271-6612.This program is a collaboration between Croton Free Library, Joh
 n C. Hart Memorial Library, Putnam Valley Library, and Warner Library. 
URL:https://www.crotonfreelibrary.org/event/zoom-talk-westchester-dining-h
 istoric-settings-11010
END:VEVENT
END:VCALENDAR
